BEGIN:VCALENDAR
VERSION:2.0
PRODID:-//Tierheim Bruck an der Leitha - ECPv6.15.18//NONSGML v1.0//EN
CALSCALE:GREGORIAN
METHOD:PUBLISH
X-WR-CALNAME:Tierheim Bruck an der Leitha
X-ORIGINAL-URL:https://www.tierheimbruck.at
X-WR-CALDESC:Veranstaltungen für Tierheim Bruck an der Leitha
REFRESH-INTERVAL;VALUE=DURATION:PT1H
X-Robots-Tag:noindex
X-PUBLISHED-TTL:PT1H
BEGIN:VTIMEZONE
TZID:UTC
BEGIN:STANDARD
TZOFFSETFROM:+0000
TZOFFSETTO:+0000
TZNAME:UTC
DTSTART:20240101T000000
END:STANDARD
END:VTIMEZONE
BEGIN:VEVENT
DTSTART;TZID=UTC:20250710T183000
DTEND;TZID=UTC:20250710T203000
DTSTAMP:20260422T085654
CREATED:20250624T143939Z
LAST-MODIFIED:20250624T143939Z
UID:10000152-1752172200-1752179400@www.tierheimbruck.at
SUMMARY:Summer Clubbing
DESCRIPTION:Training und Begegnung im Tierheim – ein besonderer Abend für Tierfreund*innen. \nEuch erwartet:\nLerne unsere Hunde und Katzen in entspannter Atmosphäre kennen – unter fachlicher Anleitung und mit viel Raum für Beobachtung\, Fragen und kleine (neue) Trainingsimpulse. \nOb du dich für Körpersprache interessierst\, moderne Trainingsmethoden kennenlernen möchtest oder einfach nur Tiere besser verstehen möchtest: Dieser Abend verbindet Lernen mit Begegnung. \n\nStelle deine Fragen\nBeobachte Verhalten\nÜber erste Signale\nKomm ins Gespräch mit dem Team des Brucker Tierheims\n\nDein aktiver Beitrag\nDie Teilnahme ist gegen eine freie Spende möglich.\nDurch deine Teilnahme ermöglichst du wichtige Impfungen. So kostet die Impfung für eine Katze ca. 35 Euro\, für einen Hund ca. 45 Euro.\nEine Teilnahme ist ab 18 Jahren möglich. \nZeitplan\n\n09.07.\, 10.07.\, 16.07.\, 30.07\, 31.07. 2025\n18.30 Uhr bis 20.30 Uhr\nTierheim Bruck\n\nWeitere Infos\n\nWir trainieren mit unseren Tierheimtieren. Deine eigenen Tiere müssen daher zu Hause bleiben.\nEine Teilnahme ist ab 18 Jahren möglich.\nDie Teilnahme an dieser Veranstaltung kann nicht für Trainer*innenpraktika angerechnet werden.\n\nDein Team\nLerne die Mitarbeiter*innen\, die ehrenamtlichen Helfer*innen und die Vorstandsmitglieder des Brucker Tierheims kennen. \nKosten & Anmeldung\nFreie Spende  \nWir freuen uns auf dich und über deine Bereitschaft\, Neues zu erfahren und mit deiner Spende zum Schutz unserer Hunde und Katzen beizutragen!
URL:https://www.tierheimbruck.at/event/summer-clubbing-5/
LOCATION:Tierheim Bruck\, Pachfurtherstraße 8\, Bruck / Leitha\, 2460
ATTACH;FMTTYPE=image/jpeg:https://www.tierheimbruck.at/wp-content/uploads/2025/06/pexels-karolina-grabowska-4495797-scaled.jpg
ORGANIZER;CN="Tierheim Bruck":MAILTO:office@tierheimbruck.at
END:VEVENT
BEGIN:VEVENT
DTSTART;TZID=UTC:20250710T100000
DTEND;TZID=UTC:20250710T100000
DTSTAMP:20260422T085654
CREATED:20250624T053203Z
LAST-MODIFIED:20250624T053839Z
UID:10000146-1752141600-1752141600@www.tierheimbruck.at
SUMMARY:Kids Club
DESCRIPTION:Tierschutz beginnt bereits sehr früh! Daher möchten wir im Sommer die jüngsten Tierschützer*innen von morgen zu uns einladen – zu einem Vormittag rund um unsere Hunde und Katzen und was euch schon immer am Tierheimalltag interessiert hat. \nEuch erwartet\n2 Vormittage in den Sommerferien\, in denen du unter Aufsicht unseres Teams unsere Hunde und Katzen kennenlernen kannst. Du erfährst\, worauf du bei der Körpersprache von Hunden und Katzen achtest musst\, wie du dich ihnen richtig vorstellst\, mit ihnen sicher spielen kannst und warum auch für unsere Hunde und Katzen der Besuch bei den Tierärzt*innen wichtig ist. \nZeitplan und Ort\n\n10.07. und 24.07.2025\n10.00 bis 12.00 Uhr\nTierheim Bruck/Lth.\n\nWichtige Infos\n\nKinder von 8 bis 13 Jahren können am Kids Club teilnehmen.\nEs muss mindestens eine erwachsene\, erziehungsberechtigte Begleitperson dabei sein.\nDie eigenen Haustiere bleiben zu Hause.\nRobuste Kleidung\, die schmutzig werden darf\, und feste Schuhe sind von Vorteil.\n\nDein aktiver Beitrag\nMit einer freien Spende unterstützt du unsere Hunde und Katzen.\nDie Impfung für eine Katze kostet ca. 35 Euro\, für einen Hund 45 Euro. Deine Spende ermöglicht eine gesunde Zukunft für unsere Tiere. \nDas Tierheimteam\nDas Tierheimteam ist während des Kids Clubs für dich und deine Eltern da. Wir beantworten gerne deine Fragen und möchten dir zeigen\, dass Tierschutz nicht vom Alter abhängt. Ein faires Miteinander zwischen Mensch und Tier ist unser Ziel. \nKosten\nFreie Spende für unserer Hunde und Katzen. \n  \n 
URL:https://www.tierheimbruck.at/event/kids-club/
LOCATION:Tierheim Bruck\, Pachfurtherstraße 8\, Bruck / Leitha\, 2460
ATTACH;FMTTYPE=image/jpeg:https://www.tierheimbruck.at/wp-content/uploads/2025/06/cat-8130334_1280.jpg
END:VEVENT
BEGIN:VEVENT
DTSTART;TZID=UTC:20250709T183000
DTEND;TZID=UTC:20250709T203000
DTSTAMP:20260422T085654
CREATED:20250624T130720Z
LAST-MODIFIED:20250624T131824Z
UID:10000138-1752085800-1752093000@www.tierheimbruck.at
SUMMARY:Summer Clubbing
DESCRIPTION:Training und Begegnung im Tierheim – ein besonderer Abend für Tierfreund*innen. \nEuch erwartet:\nLerne unsere Hunde und Katzen in entspannter Atmosphäre kennen – unter fachlicher Anleitung und mit viel Raum für Beobachtung\, Fragen und kleine (neue) Trainingsimpulse. \nOb du dich für Körpersprache interessierst\, moderne Trainingsmethoden kennenlernen möchtest oder einfach nur Tiere besser verstehen möchtest: Dieser Abend verbindet Lernen mit Begegnung. \n\nStelle deine Fragen\nBeobachte Verhalten\nÜber erste Signale\nKomm ins Gespräch mit dem Team des Brucker Tierheims\n\nDein aktiver Beitrag\nDie Teilnahme ist gegen eine freie Spende möglich.\nDurch deine Teilnahme ermöglichst du wichtige Impfungen. So kostet die Impfung für eine Katze ca. 35 Euro\, für einen Hund ca. 45 Euro.\nEine Teilnahme ist ab 18 Jahren möglich. \nZeitplan\n\n09.07.\, 10.07.\, 16.07.\, 30.07\, 31.07. 2025\n18.30 Uhr bis 20.30 Uhr\nTierheim Bruck\n\nWeitere Infos\n\nWir trainieren mit unseren Tierheimtieren. Deine eigenen Tiere müssen daher zu Hause bleiben.\nEine Teilnahme ist ab 18 Jahren möglich.\nDie Teilnahme an dieser Veranstaltung kann nicht für Trainer*innenpraktika angerechnet werden.\n\nDein Team\nLerne die Mitarbeiter*innen\, die ehrenamtlichen Helfer*innen und die Vorstandsmitglieder des Brucker Tierheims kennen. \nKosten & Anmeldung\nFreie Spende  \nWir freuen uns auf dich und über deine Bereitschaft\, Neues zu erfahren und mit deiner Spende zum Schutz unserer Hunde und Katzen beizutragen!
URL:https://www.tierheimbruck.at/event/summer-clubbing/
LOCATION:Tierheim Bruck\, Pachfurtherstraße 8\, Bruck / Leitha\, 2460
ATTACH;FMTTYPE=image/jpeg:https://www.tierheimbruck.at/wp-content/uploads/2025/06/pexels-karolina-grabowska-4495797-scaled.jpg
END:VEVENT
BEGIN:VEVENT
DTSTART;TZID=UTC:20250503T100000
DTEND;TZID=UTC:20250503T170000
DTSTAMP:20260422T085654
CREATED:20250314T185810Z
LAST-MODIFIED:20250318T124320Z
UID:10000010-1746266400-1746291600@www.tierheimbruck.at
SUMMARY:Medical Training im Alltag für Hunde und Katzen
DESCRIPTION:Medical Training kann Leben retten – und wir versprechen dir: Es ist einfacher\, als du denkst! Keine Wrestling-Einlagen mehr beim Krallenschneiden\, keine Verzweiflung mehr bei der Medikamentengabe – mit den richtigen Techniken wird dein Tier zum motivierten Kooperationspartner. \nEuch erwartet:\nIn diesem Workshop zeigen dir Sabine Taferner und Anika Moritz\, wie du mit smarter Verstärkung\, kleinen Trainingsschritten und alltagstauglichen Übungen Medical Training stressfrei und effektiv umsetzt. Ob Trainer*in\, Tierpfleger*in oder begeisterte*r Tierhalter*in – hier bekommst du praktische Methoden\, die du sofort anwenden kannst. Denn Hand aufs Herz: Ein Tier\, das freiwillig mitmacht\, macht das Leben so viel einfacher! \nZeitplan\n\n03.05.2025 von 10.00 – 17.00 Uhr\n\nEckdaten\nWir arbeiten mit unseren Tierheimtieren.\nDeshalb bleiben deine eigenen Tiere zuhause. So können wir praxisnah individuelle Trainingspläne erstellen und auch sofort umsetzen. Das Erlernte kannst du dann bei den eigenen Tieren daheim anwenden und so das tägliche Training klarer und strukturierter gestalten. \nDie Vortragenden\nSabine Taferner\nSabine Taferner ist tierschutzqualifizierte Hundetrainerin und Tierheimleitung des Brucker Tierheims. Sie bringt ihre umfassende Erfahrung im Tierschutz und der Arbeit mit Herdenschutzhunden in Trainingseinheiten ein\, die speziell darauf abzielen\, den Alltag stressfrei und effizient zu gestalten. \nAnika Moritz\nAnika Moritz ist Katzentrainerin und Autorin eines SPIEGEL-BESTSELLERS zur bedürfnisorientierten Katzenerziehung. Mit ihrer Katze Alexis hält sie den Weltrekord für die meisten Tricks in 60 Sekunden und zeigt\, dass auch Katzen trainiert werden können. Anika möchte\, dass du dich im Umgang und Training mit deiner Katze sicher und kompetent fühlst – und genau dabei unterstützt sie dich. \nKosten\nPresale (bis 19.04.2025): € 249\,-\nNormaler Preis (ab 20.04.2025): € 269\,-
URL:https://www.tierheimbruck.at/event/medical-training-im-alltag-fuer-hunde-und-katzen/
LOCATION:Tierheim Bruck\, Pachfurtherstraße 8\, Bruck / Leitha\, 2460
ATTACH;FMTTYPE=image/png:https://www.tierheimbruck.at/wp-content/uploads/2025/03/Bildschirmfoto-2025-03-14-um-19.56.53.png
ORGANIZER;CN="Anima Canis":MAILTO:office@tierheimbruck.at
END:VEVENT
BEGIN:VEVENT
DTSTART;TZID=UTC:20250502T140000
DTEND;TZID=UTC:20250502T160000
DTSTAMP:20260422T085654
CREATED:20250415T144228Z
LAST-MODIFIED:20250415T144228Z
UID:10000013-1746194400-1746201600@www.tierheimbruck.at
SUMMARY:Warum ein neuer Weg notwendig ist - Informationsveranstaltung und Austausch
DESCRIPTION:Unser Tierheim steht an einem Wendepunkt: Das alte Gebäude mit seiner historischen Bausubstanz ist in die Jahre gekommen – Instandhaltung allein reicht nicht mehr. Für Mensch und Tier braucht es eine nachhaltige Lösung. \nIn dieser Informationsveranstaltung erfahren interessierte Personen: \n\nWarum ein Neubau unumgänglich ist.\nWas bisher unternommen wurde.\nWie es weitergeht.\n\nDarüber informieren wir in einer offenen Veranstaltung für alle Interessierten. \nIm Anschluss gibt es Raum für Fragen und Austausch – wir freuen uns auf viele engagierte Gäste\, denen das Wohl der Tiere und eine zukunftsfähige Infrastruktur am Herzen liegen! \nAufgrund der baulichen Gegebenheiten ist eine Führung durch das Tierheim leider nicht möglich. Ebenso können eigene Haustiere leider nicht mitgenommen werden. Wir ersuchen um Verständnis.
URL:https://www.tierheimbruck.at/event/warum-ein-neuer-weg-notwendig-ist-informationsveranstaltung-und-austausch/
LOCATION:Tierheim Bruck\, Pachfurtherstraße 8\, Bruck / Leitha\, 2460
ATTACH;FMTTYPE=image/jpeg:https://www.tierheimbruck.at/wp-content/uploads/2025/04/Katze_altes-Fenster_Stockfoto-scaled.jpg
ORGANIZER;CN="Tierheim Bruck":MAILTO:office@tierheimbruck.at
END:VEVENT
BEGIN:VEVENT
DTSTART;TZID=UTC:20250405T100000
DTEND;TZID=UTC:20250405T170000
DTSTAMP:20260422T085654
CREATED:20250313T130242Z
LAST-MODIFIED:20250318T123317Z
UID:10000008-1743847200-1743872400@www.tierheimbruck.at
SUMMARY:Transportboxentraining für Hunde und Katzen
DESCRIPTION:Eine gut trainierte Box macht den Alltag mit Hund und Katze einfacher – ob in der Tierpraxis\, auf Reisen oder als sicherer Rückzugsort zu Hause. \nEuch erwartet:\nEine gut trainierte Box macht den Alltag mit Hund und Katze einfacher – ob in der Tierpraxis\, auf Reisen oder als sicherer Rückzugsort zu Hause.\nIn diesem Tagesworkshop zeigen dir Sabine Taferner und Anika Moritz\, wie du die Box nicht nur als Transportmittel nutzt\, sondern sie zu einem vertrauten und angenehmen Ort machst\, den dein Tier gerne aufsucht. Du lernst\, wie du das kooperative Einsteigen trainierst\, die Box sinnvoll in den Wohnraum integrierst und worauf es bei der Gestaltung ankommt\, damit sie den Bedürfnissen deines Tieres gerecht wird. Mit einem Mix aus fundierter Theorie und aktivem Training bekommst du wertvolle Methoden an die Hand\, die du sofort umsetzen kannst. Willkommen sind alle\, die ihr Wissen erweitern und praktisch anwenden möchten – ob Trainer*in\, Tierpfleger*in\, ehrenamtlicher Helfer*in oder engagierte Tierhalter*innen. \nZeitplan\n05.04.2025  von 10.00 – 17.00 Uhr \nEckdaten\nWir arbeiten mit unseren Tierheimtieren.\nDeshalb bleiben deine eigenen Tiere zuhause. So können wir praxisnah individuelle Trainingspläne erstellen und auch sofort umsetzen. Das Erlernte kannst du dann bei den eigenen Tieren daheim anwenden und so das tägliche Training klarer und strukturierter gestalten. \nDie Vortragenden\nSabine Taferner\nSabine Taferner ist tierschutzqualifizierte Hundetrainerin und Tierheimleitung des Brucker Tierheims. Sie bringt ihre umfassende Erfahrung im Tierschutz und der Arbeit mit Herdenschutzhunden in Trainingseinheiten ein\, die speziell darauf abzielen\, den Alltag stressfrei und effizient zu gestalten. \nAnika Moritz\nAnika Moritz ist Katzentrainerin und Autorin eines SPIEGEL-BESTSELLERS zur bedürfnisorientierten Katzenerziehung. Mit ihrer Katze Alexis hält sie den Weltrekord für die meisten Tricks in 60 Sekunden und zeigt\, dass auch Katzen trainiert werden können. Anika möchte\, dass du dich im Umgang und Training mit deiner Katze sicher und kompetent fühlst – und genau dabei unterstützt sie dich. \nKosten\nPre-Sale-Preis: € 249\,- (Pre-Sale-Preis) bis 29.03.\,\nNormalpreis: € 269\,-
URL:https://www.tierheimbruck.at/event/transportboxtraining-fuer-hunde-und-katzen/
LOCATION:Tierheim Bruck\, Pachfurtherstraße 8\, Bruck / Leitha\, 2460
ATTACH;FMTTYPE=image/jpeg:https://www.tierheimbruck.at/wp-content/uploads/2025/03/Boxentraining-scaled.jpg
ORGANIZER;CN="Anima Canis":MAILTO:office@tierheimbruck.at
END:VEVENT
BEGIN:VEVENT
DTSTART;TZID=UTC:20250315T100000
DTEND;TZID=UTC:20250315T150000
DTSTAMP:20260422T085654
CREATED:20250309T203252Z
LAST-MODIFIED:20250313T113524Z
UID:10000001-1742032800-1742050800@www.tierheimbruck.at
SUMMARY:Tierheim neu erleben
DESCRIPTION:Am 15.03.2025 findet im Tierheim Bruck/Lth. von 10.00 bis 15.00 Uhr unsere Veranstaltung Tierheim neu erleben statt. \nEuch erwartet:\n\nMeet & Greet mit unseren Hunden\n3 Führungen im Katzenhaus\nVortrag zu unserem Adoptionsablauf – nachhaltig und transparent\nInfos zu unseren Tieren\, zum Tierheim\, zu den täglichen Herausforderungen\, zu Mitgliedschaft und Patenschaft\nKartenverkauf (freie Spende) für unsere Event „One more time – Tattoo & Musik“\n\nZeitplan\nFührungen im Katzenhaus finden statt: \n10.00 – 10.20 Uhr oder 12.00 – 12.20 Uhr oder 14.00 – 14.20 Uhr \nMeet & Greets mit unseren Hunden finden statt:\n10.30 – 11.00 Uhr oder 13.00 – 13.30 Uhr \nVortrag „Adoptionslablauf – Nachhaltig und transparent“\n11.30 – 12.00 Uhr \n  \nBitte beachten Sie unsere allgemeinen FAQs. \n 
URL:https://www.tierheimbruck.at/event/tierheim-neu-erleben/
LOCATION:Tierheim Bruck\, Pachfurtherstraße 8\, Bruck / Leitha\, 2460
ATTACH;FMTTYPE=image/jpeg:https://www.tierheimbruck.at/wp-content/uploads/2025/02/Mario_Feb2025.jpg
ORGANIZER;CN="Tierheim Bruck":MAILTO:office@tierheimbruck.at
END:VEVENT
BEGIN:VEVENT
DTSTART;TZID=UTC:20250311T163000
DTEND;TZID=UTC:20250311T183000
DTSTAMP:20260422T085654
CREATED:20250309T205954Z
LAST-MODIFIED:20250309T210102Z
UID:10000002-1741710600-1741717800@www.tierheimbruck.at
SUMMARY:Impfen oder nicht impfen\, das ist hier die Frage!
DESCRIPTION:Vortrag zum Thema Impfen bei Hunden und Katzen\nvon Mag.a. med.vet. Andrea Thon \nInhalt des Vortrags\n\nWarum impfen wir?\nWelche Impfungen sind notwendig (CORE vs. NON-CORE)?\nIn welchem Alter wird geimpft und wann erfolgen die Auffrischungsimpfungen?\nWas tun\, wenn ich den Impfstatus meines Hundes oder meiner Katze nicht kenne?\nBesonderheiten bei Impfungen im Tierheim\n\nEckdaten\n\nDer Inhalt des Vortrags richtet sich nach den WSAVA Guidlines 2024\nDer Vortrag wird auch als Live-Stream verfügbar sein\nAktuelle Standards von einer Expertin\n\nKosten\n€ 35\,- (Der Erlös kommt zu 100% den Tieren des Tierheims zu Gute)\nVor Ort in bar zu bezahlen oder nach Erhalt der Überweisungsmöglichkeit für den Live-Stream
URL:https://www.tierheimbruck.at/event/impfen-oder-nicht-impfen-das-ist-hier-die-frage/
LOCATION:Tierheim Bruck\, Pachfurtherstraße 8\, Bruck / Leitha\, 2460
ATTACH;FMTTYPE=image/jpeg:https://www.tierheimbruck.at/wp-content/uploads/2023/02/Stockfoto_Tierarzt-scaled.jpg
ORGANIZER;CN="Tierheim Bruck":MAILTO:office@tierheimbruck.at
END:VEVENT
END:VCALENDAR