BEGIN:VCALENDAR
VERSION:2.0
PRODID:-//Tierheim Bruck an der Leitha - ECPv6.15.18//NONSGML v1.0//EN
CALSCALE:GREGORIAN
METHOD:PUBLISH
X-WR-CALNAME:Tierheim Bruck an der Leitha
X-ORIGINAL-URL:https://www.tierheimbruck.at
X-WR-CALDESC:Veranstaltungen für Tierheim Bruck an der Leitha
REFRESH-INTERVAL;VALUE=DURATION:PT1H
X-Robots-Tag:noindex
X-PUBLISHED-TTL:PT1H
BEGIN:VTIMEZONE
TZID:UTC
BEGIN:STANDARD
TZOFFSETFROM:+0000
TZOFFSETTO:+0000
TZNAME:UTC
DTSTART:20250101T000000
END:STANDARD
END:VTIMEZONE
BEGIN:VEVENT
DTSTART;TZID=UTC:20260904T180000
DTEND;TZID=UTC:20260904T200000
DTSTAMP:20260422T085014
CREATED:20251213T114004Z
LAST-MODIFIED:20251217T103435Z
UID:10000170-1788544800-1788552000@www.tierheimbruck.at
SUMMARY:Von Krallen zu Glitzer: Aggression bei Katzen verstehen & Ursache finden
DESCRIPTION:Online-Abendvortrag mit Anika Moritz\nVon Krallen zu GlitzerAggression bei Katzen verstehen & Ursachen erkennen \nAggressives Verhalten bei Katzen wird häufig missverstanden oder vorschnell bewertet. In diesem Online-Abendvortrag vermittelt Anika Moritz fundiertes Wissen zur Einordnung und Ursachenanalyse von Aggression bei Katzen. \nIm Fokus stehen das Erkennen auslösender Faktoren\, eine differenzierte Betrachtung verschiedener Aggressionsformen sowie praxisnahe Ansätze für den professionellen Umgang mit betroffenen Katzen. Ziel ist es\, Aggressionsverhalten sachlich zu verstehen und als wichtige Kommunikationsform richtig einzuordnen. \nDer Vortrag richtet sich an Fachpersonen\, Tiertrainer*innen\, Verhaltensberater*innen sowie interessierte Tierhalter*innen\, die ihr Wissen zum Thema Katzenaggression vertiefen möchten. \nDauer: ca. 1\,5 Stunden \nZeit: 18:00–20:00 Uhr \nca. 60 Minuten Vortrag \nca. 30 Minuten Fragerunde \nTeilnahmegebühr: €35\,00 \nReferentin\nAnika Moritz ist Katzenverhaltensberaterin und arbeitet seit 2019 professionell mit Katzen und ihren Halter*innen. Bereits im Alter von 17 Jahren begann sie ihr Fernstudium in Tierpsychologie\, das sie erfolgreich abschloss. \nIhre eigene Katze Alexis hält einen Guinness-Weltrekord mit über 26 verschiedenen Tricks in einer Minute. Anika Moritz berät regelmäßig Filmproduktionen als Expertin für Tier- und Katzenverhalten und veröffentlicht Fachbeiträge in verschiedenen Zeitschriften. Sie ist Spiegel-Bestsellerautorin des Buches „Die Katzentrainerin“.
URL:https://www.tierheimbruck.at/event/von-krallen-zu-glitzer-aggression-bei-katzen-verstehen-ursache-finden/
LOCATION:Online
ATTACH;FMTTYPE=image/png:https://www.tierheimbruck.at/wp-content/uploads/2025/12/Design-ohne-Titel.png
END:VEVENT
END:VCALENDAR